BEGIN:VCALENDAR
VERSION:2.0
PRODID:-//wp-events-plugin.com//6.5//EN
BEGIN:VEVENT
UID:1-3727@swea.org
DTSTART;TZID=Europe/Stockholm:20230914T150000
DTEND;TZID=Europe/Stockholm:20230914T163000
DTSTAMP:20230916T172231Z
URL:https://swea.org/events/mot-vara-stipendiater-julia-sahlstrom-vinnare-
 av-sweas-interkulturella-stipendium/
SUMMARY:Möt våra Stipendiater - Julia Sahlström\, vinnare av SWEAs Inter
 kulturella Stipendium
DESCRIPTION:Kom och träffa vinnaren av SWEAs Interkulturella stipendium 20
 23 - Julia Sahlström. Julia är doktorand i historia vid Stockholms univ
 ersitet där hon forskar kring judars minnen och erfarenheter av Förintel
 sen. Ett ämne som tyvärr alltid är aktuellt\, och synnerligen interkult
 urellt. Stipendiet skall täcka kostnader för studier under en termin vid
  Oxford University. 
ATTACH;FMTTYPE=image/jpeg:https://swea.org/wp-content/uploads/2023/04/Sahl
 strombild.jpg
END:VEVENT
BEGIN:VTIMEZONE
TZID:Europe/Stockholm
X-LIC-LOCATION:Europe/Stockholm
BEGIN:DAYLIGHT
DTSTART:20230326T030000
TZOFFSETFROM:+0100
TZOFFSETTO:+0200
TZNAME:CEST
END:DAYLIGHT
END:VTIMEZONE
END:VCALENDAR