BEGIN:VCALENDAR
VERSION:2.0
PRODID:-//wp-events-plugin.com//6.5//EN
BEGIN:VEVENT
UID:1-8180@swea.org
DTSTART;TZID=Europe/Stockholm:20250327T190000
DTEND;TZID=Europe/Stockholm:20250327T200000
DTSTAMP:20250415T175922Z
URL:https://swea.org/events/swea-art-fotografering-med-margareta-svensson/
SUMMARY:SWEA Art - Fotografering med Margareta Svensson
DESCRIPTION:Att fotografera har blivit så lätt att vi nästan inte tänke
 r på vad vi gör när vi riktar telefonen mot det som intresserar oss fö
 r i stunden. Till råga på allt sprider vi bilderna till alla vi känner.
 \nI det här SWEA Art-webbinaret skall vi diskutera något som man skulle 
 kunna kalla ”slow photography”\; det handlar om att fotografera stille
 ben.
ATTACH;FMTTYPE=image/jpeg:https://swea.org/wp-content/uploads/2025/03/Marg
 aretaSvensson06-web-250208-mindre.jpg
CATEGORIES:Till alla SWEA Live event
END:VEVENT
BEGIN:VTIMEZONE
TZID:Europe/Stockholm
X-LIC-LOCATION:Europe/Stockholm
BEGIN:STANDARD
DTSTART:20241027T020000
TZOFFSETFROM:+0200
TZOFFSETTO:+0100
TZNAME:CET
END:STANDARD
END:VTIMEZONE
END:VCALENDAR