BEGIN:VCALENDAR
VERSION:2.0
PRODID:-//wp-events-plugin.com//6.5//EN
BEGIN:VEVENT
UID:1-10562@swea.org
DTSTART;TZID=Europe/Stockholm:20260425T090000
DTEND;TZID=Europe/Stockholm:20260425T104500
DTSTAMP:20260401T001605Z
URL:https://swea.org/events/swea-internationals-arsmote-25-april-2026/
SUMMARY:SWEA Internationals årsmöte 25 april 2026
DESCRIPTION:Alla SWEA-medlemmar är välkomna att delta i SWEA Internationa
 ls årsmöte digitalt via Zoom lördagen den 25 april 2026
ATTACH;FMTTYPE=image/jpeg:https://swea.org/wp-content/uploads/2026/03/Webb
 inariebild-IAM.png
CATEGORIES:SWEA event
END:VEVENT
BEGIN:VTIMEZONE
TZID:Europe/Stockholm
X-LIC-LOCATION:Europe/Stockholm
BEGIN:DAYLIGHT
DTSTART:20260329T030000
TZOFFSETFROM:+0100
TZOFFSETTO:+0200
TZNAME:CEST
END:DAYLIGHT
END:VTIMEZONE
END:VCALENDAR