BEGIN:VCALENDAR
VERSION:2.0
PRODID:-//wp-events-plugin.com//6.5//EN
BEGIN:VEVENT
UID:1-2543@swea.org
DTSTART;TZID=Europe/Stockholm:20230223T190000
DTEND;TZID=Europe/Stockholm:20230223T203000
DTSTAMP:20230209T033845Z
URL:https://swea.org/events/swea-professional-jana-soderberg/
SUMMARY:SWEA Professional - Jana Söderberg
DESCRIPTION:SWEA Professional bjuder in till ett webbinarie med Jana Söder
 berg\, författare och föreläsare med fokus på neuroledarskap och neuro
 kommunikation. Många känner igen Janas röst från hennes populära Somm
 arprat där hon talade om vikten av att byta perspektiv samt att riva egen
 konstruerade hinder till vår utveckling.
ATTACH;FMTTYPE=image/jpeg:https://swea.org/wp-content/uploads/2023/02/Jana
 -Soderberg-2-800-531-2014.png
END:VEVENT
BEGIN:VTIMEZONE
TZID:Europe/Stockholm
X-LIC-LOCATION:Europe/Stockholm
BEGIN:STANDARD
DTSTART:20221030T020000
TZOFFSETFROM:+0200
TZOFFSETTO:+0100
TZNAME:CET
END:STANDARD
END:VTIMEZONE
END:VCALENDAR