BEGIN:VCALENDAR
VERSION:2.0
PRODID:-//wp-events-plugin.com//6.5//EN
BEGIN:VEVENT
UID:1-9637@swea.org
DTSTART;TZID=Europe/Stockholm:20260120T190000
DTEND;TZID=Europe/Stockholm:20260120T200000
DTSTAMP:20260102T151101Z
URL:https://swea.org/events/tio-med-io-tema-medlemssupport/
SUMMARY:Tio med IO - Tema: Medlemssupport
DESCRIPTION:Tio med IO tisdag 20 januari 2026. Gäster: Representanter frå
 n SWEAs Medlemssupport\, som kommer att berätta mer om:\n— vilket stöd
  de kan ge till er i avdelningarna\; den nya rutinen för hantering och up
 pladdning av medlemslistor\; uppdaterad rutin för inbetalningar av medlem
 savgifter.\nIngen anmälan behövs.
ATTACH;FMTTYPE=image/jpeg:https://swea.org/wp-content/uploads/2025/08/Bild
 -6-Lotta-rotated.jpeg
CATEGORIES:Till alla SWEA Live event
END:VEVENT
BEGIN:VTIMEZONE
TZID:Europe/Stockholm
X-LIC-LOCATION:Europe/Stockholm
BEGIN:STANDARD
DTSTART:20251026T020000
TZOFFSETFROM:+0200
TZOFFSETTO:+0100
TZNAME:CET
END:STANDARD
END:VTIMEZONE
END:VCALENDAR