BEGIN:VCALENDAR
VERSION:2.0
PRODID:-//wp-events-plugin.com//6.5//EN
BEGIN:VEVENT
UID:1-9578@swea.org
DTSTART;TZID=Europe/Stockholm:20260113T190000
DTEND;TZID=Europe/Stockholm:20260113T200000
DTSTAMP:20251127T165917Z
URL:https://swea.org/events/traffa-elly-reinolds-arets-svenska-kvinna-2025
 -2/
SUMMARY:Träffa Elly Reinolds - Årets Svenska Kvinna 2025
DESCRIPTION:Årets Svenska Kvinna är en prestigefyllda utmärkelse som SWE
 A International sedan 1989 har tilldelat 34 svenska kvinnor. År 2025 till
 delades utmärkelsen till Elly Reinolds\, OperationAid \,för sina utomord
 entliga insatser i Ukraina. Hedersutmärkelse ges till en svensk kvinna va
 rje år\, som verkat internationellt\, och genom sitt arbete representerar
  och lyfter fram Sverige i världen.\nÖverlämnandet av utmärkelsen sked
 de vid SWEA Sverige Sommardagar i Stockholm i augusti 2025.
ATTACH;FMTTYPE=image/jpeg:https://swea.org/wp-content/uploads/2025/05/Elly
 -Reinolds_ASK2025_IMG_5649_foto-DenysZulkarnieiev.jpeg
CATEGORIES:Till alla SWEA Live event
END:VEVENT
BEGIN:VTIMEZONE
TZID:Europe/Stockholm
X-LIC-LOCATION:Europe/Stockholm
BEGIN:STANDARD
DTSTART:20251026T020000
TZOFFSETFROM:+0200
TZOFFSETTO:+0100
TZNAME:CET
END:STANDARD
END:VTIMEZONE
END:VCALENDAR